Package: SOMNiBUS Version: 1.16.0 Command: /Library/Frameworks/R.framework/Resources/bin/R CMD build --keep-empty-dirs --no-resave-data SOMNiBUS StartedAt: 2025-05-08 22:33:17 -0400 (Thu, 08 May 2025) EndedAt: 2025-05-08 22:40:01 -0400 (Thu, 08 May 2025) EllapsedTime: 404.1 seconds RetCode: 0 Status: OK PackageFile: SOMNiBUS_1.16.0.tar.gz PackageFileSize: 1.029 MiB