Package: SNPhood Version: 1.38.0 Command: /Library/Frameworks/R.framework/Resources/bin/R CMD check --install=check:SNPhood.install-out.txt --library=/Library/Frameworks/R.framework/Resources/library --no-vignettes --timings SNPhood_1.38.0.tar.gz StartedAt: 2025-05-06 10:08:07 -0400 (Tue, 06 May 2025) EndedAt: 2025-05-06 10:38:19 -0400 (Tue, 06 May 2025) EllapsedTime: 1812.1 seconds RetCode: 0 Status: OK CheckDir: SNPhood.Rcheck Warnings: 0