Package: SNPediaR Version: 1.32.0 Command: /home/biocbuild/R/R/bin/R CMD check --install=check:SNPediaR.install-out.txt --library=/home/biocbuild/R/R/site-library --no-vignettes --timings SNPediaR_1.32.0.tar.gz StartedAt: 2025-01-31 10:34:15 -0000 (Fri, 31 Jan 2025) EndedAt: 2025-01-31 10:34:46 -0000 (Fri, 31 Jan 2025) EllapsedTime: 31.0 seconds RetCode: 0 Status: OK CheckDir: SNPediaR.Rcheck Warnings: 0