Package: SNPediaR Version: 1.34.0 Command: /home/biocbuild/R/R/bin/R CMD INSTALL SNPediaR StartedAt: 2025-05-08 20:18:28 -0000 (Thu, 08 May 2025) EndedAt: 2025-05-08 20:18:39 -0000 (Thu, 08 May 2025) EllapsedTime: 10.9 seconds RetCode: 0 Status: OK