Package: SNPediaR Version: 1.34.0 Command: /Library/Frameworks/R.framework/Resources/bin/R CMD check --install=check:SNPediaR.install-out.txt --library=/Library/Frameworks/R.framework/Resources/library --no-vignettes --timings SNPediaR_1.34.0.tar.gz StartedAt: 2025-04-21 21:46:20 -0400 (Mon, 21 Apr 2025) EndedAt: 2025-04-21 21:46:38 -0400 (Mon, 21 Apr 2025) EllapsedTime: 18.2 seconds RetCode: 0 Status: OK CheckDir: SNPediaR.Rcheck Warnings: 0