Package: SNPediaR Version: 1.34.0 Command: /Library/Frameworks/R.framework/Resources/bin/R CMD INSTALL SNPediaR StartedAt: 2025-05-08 15:04:17 -0400 (Thu, 08 May 2025) EndedAt: 2025-05-08 15:04:19 -0400 (Thu, 08 May 2025) EllapsedTime: 2.4 seconds RetCode: 0 Status: OK