Package: SNPediaR Version: 1.34.0 Command: rm -rf SNPediaR.buildbin-libdir && mkdir SNPediaR.buildbin-libdir && /Users/biocbuild/BBS/utils/build-universal.sh SNPediaR_1.34.0.tar.gz /Library/Frameworks/R.framework/Resources/bin/R SNPediaR.buildbin-libdir StartedAt: 2025-05-14 17:02:04 -0400 (Wed, 14 May 2025) EndedAt: 2025-05-14 17:02:09 -0400 (Wed, 14 May 2025) EllapsedTime: 4.5 seconds RetCode: 0 Status: OK PackageFile: SNPediaR_1.34.0.tgz PackageFileSize: 244.2 KiB