Package: SNAGEE Version: 1.48.0 Maintainer: David Venet MaintainerEmail: davenet at ulb.ac.be git_url: https://git.bioconductor.org/packages/SNAGEE git_branch: RELEASE_3_21 git_last_commit: ac5a58d git_last_commit_date: 2025-04-15 10:16:29 -0400 (Tue, 15 Apr 2025)