Package: SMITE Version: 1.34.0 Command: /home/biocbuild/R/R/bin/R CMD INSTALL SMITE StartedAt: 2025-01-30 20:40:41 -0000 (Thu, 30 Jan 2025) EndedAt: 2025-01-30 20:41:35 -0000 (Thu, 30 Jan 2025) EllapsedTime: 54.3 seconds RetCode: 0 Status: OK