Package: SMITE Version: 1.34.0 Command: /Library/Frameworks/R.framework/Resources/bin/R CMD build --keep-empty-dirs --no-resave-data SMITE StartedAt: 2025-01-23 22:37:26 -0500 (Thu, 23 Jan 2025) EndedAt: 2025-01-23 22:40:07 -0500 (Thu, 23 Jan 2025) EllapsedTime: 161.1 seconds RetCode: 0 Status: OK PackageFile: SMITE_1.34.0.tar.gz PackageFileSize: 3.088 MiB