Package: SMITE Version: 1.36.0 Command: /Library/Frameworks/R.framework/Resources/bin/R CMD check --install=check:SMITE.install-out.txt --library=/Library/Frameworks/R.framework/Resources/library --no-vignettes --timings SMITE_1.36.0.tar.gz StartedAt: 2025-04-21 21:45:06 -0400 (Mon, 21 Apr 2025) EndedAt: 2025-04-21 21:47:07 -0400 (Mon, 21 Apr 2025) EllapsedTime: 121.4 seconds RetCode: 0 Status: OK CheckDir: SMITE.Rcheck Warnings: 0