Package: SMAD Version: 1.24.0 Command: /home/biocbuild/R/R/bin/R CMD check --install=check:SMAD.install-out.txt --library=/home/biocbuild/R/R/site-library --no-vignettes --timings SMAD_1.24.0.tar.gz StartedAt: 2025-04-22 14:01:42 -0000 (Tue, 22 Apr 2025) EndedAt: 2025-04-22 14:02:54 -0000 (Tue, 22 Apr 2025) EllapsedTime: 72.1 seconds RetCode: 0 Status: WARNINGS CheckDir: SMAD.Rcheck Warnings: 4