Package: SLqPCR Version: 1.74.0 Maintainer: Matthias Kohl MaintainerEmail: kohl at sirs-lab.com git_url: https://git.bioconductor.org/packages/SLqPCR git_branch: RELEASE_3_21 git_last_commit: 5dc208f git_last_commit_date: 2025-04-15 09:40:01 -0400 (Tue, 15 Apr 2025)