Package: SIMD Version: 1.26.0 Command: /Library/Frameworks/R.framework/Resources/bin/R CMD INSTALL SIMD StartedAt: 2025-04-21 15:05:08 -0400 (Mon, 21 Apr 2025) EndedAt: 2025-04-21 15:05:45 -0400 (Mon, 21 Apr 2025) EllapsedTime: 36.4 seconds RetCode: 0 Status: OK