Package: SIMD Version: 1.26.0 Command: /Library/Frameworks/R.framework/Resources/bin/R CMD check --install=check:SIMD.install-out.txt --library=/Library/Frameworks/R.framework/Resources/library --no-vignettes --timings SIMD_1.26.0.tar.gz StartedAt: 2025-04-21 23:36:13 -0400 (Mon, 21 Apr 2025) EndedAt: 2025-04-21 23:36:45 -0400 (Mon, 21 Apr 2025) EllapsedTime: 32.0 seconds RetCode: 0 Status: OK CheckDir: SIMD.Rcheck Warnings: 0