Package: SIMD Version: 1.26.0 Command: /home/biocbuild/R/R/bin/R CMD INSTALL SIMD StartedAt: 2025-04-21 20:14:31 -0000 (Mon, 21 Apr 2025) EndedAt: 2025-04-21 20:14:56 -0000 (Mon, 21 Apr 2025) EllapsedTime: 25.0 seconds RetCode: 0 Status: OK