Package: SIMD Version: 1.26.0 Command: /Library/Frameworks/R.framework/Resources/bin/R CMD check --install=check:SIMD.install-out.txt --library=/Library/Frameworks/R.framework/Resources/library --no-vignettes --timings SIMD_1.26.0.tar.gz StartedAt: 2025-05-07 10:13:28 -0400 (Wed, 07 May 2025) EndedAt: 2025-05-07 10:13:57 -0400 (Wed, 07 May 2025) EllapsedTime: 29.2 seconds RetCode: 0 Status: OK CheckDir: SIMD.Rcheck Warnings: 0