Package: SIMAT Version: 1.40.0 Maintainer: M. R. Nezami Ranjbar MaintainerEmail: nranjbar at vt.edu git_url: https://git.bioconductor.org/packages/SIMAT git_branch: RELEASE_3_21 git_last_commit: a1040c6 git_last_commit_date: 2025-04-15 10:49:04 -0400 (Tue, 15 Apr 2025)