Package: SIM Version: 1.76.0 Command: /home/biocbuild/R/R/bin/R CMD check --install=check:SIM.install-out.txt --library=/home/biocbuild/R/R/site-library --no-vignettes --timings SIM_1.76.0.tar.gz StartedAt: 2025-01-31 10:27:48 -0000 (Fri, 31 Jan 2025) EndedAt: 2025-01-31 10:30:37 -0000 (Fri, 31 Jan 2025) EllapsedTime: 168.2 seconds RetCode: 0 Status: WARNINGS CheckDir: SIM.Rcheck Warnings: 1