Package: SIM Version: 1.76.0 Command: /home/biocbuild/R/R/bin/R CMD build --keep-empty-dirs --no-resave-data SIM StartedAt: 2025-01-31 02:44:36 -0000 (Fri, 31 Jan 2025) EndedAt: 2025-01-31 02:45:16 -0000 (Fri, 31 Jan 2025) EllapsedTime: 40.1 seconds RetCode: 0 Status: OK PackageFile: SIM_1.76.0.tar.gz PackageFileSize: 451.5 KiB