Package: SGSeq Version: 1.40.0 Command: /Library/Frameworks/R.framework/Resources/bin/R CMD build --keep-empty-dirs --no-resave-data SGSeq StartedAt: 2025-01-30 22:51:50 -0500 (Thu, 30 Jan 2025) EndedAt: 2025-01-30 22:58:36 -0500 (Thu, 30 Jan 2025) EllapsedTime: 406.1 seconds RetCode: 0 Status: OK PackageFile: SGSeq_1.40.0.tar.gz PackageFileSize: 1.747 MiB