Package: SGSeq Version: 1.40.0 Command: rm -rf SGSeq.buildbin-libdir && mkdir SGSeq.buildbin-libdir && /Users/biocbuild/BBS/utils/build-universal.sh SGSeq_1.40.0.tar.gz /Library/Frameworks/R.framework/Resources/bin/R SGSeq.buildbin-libdir StartedAt: 2025-02-01 16:53:47 -0500 (Sat, 01 Feb 2025) EndedAt: 2025-02-01 16:54:38 -0500 (Sat, 01 Feb 2025) EllapsedTime: 50.8 seconds RetCode: 0 Status: OK PackageFile: SGSeq_1.40.0.tgz PackageFileSize: 1.776 MiB