Package: SGCP Version: 1.6.0 Command: /home/biocbuild/R/R/bin/R CMD build --keep-empty-dirs --no-resave-data SGCP StartedAt: 2025-01-31 02:42:15 -0000 (Fri, 31 Jan 2025) EndedAt: 2025-01-31 02:46:19 -0000 (Fri, 31 Jan 2025) EllapsedTime: 244.3 seconds RetCode: 0 Status: OK PackageFile: SGCP_1.6.0.tar.gz PackageFileSize: 1.712 MiB