Package: SEtools Version: 1.20.0 Command: /home/biocbuild/R/R/bin/R CMD INSTALL SEtools StartedAt: 2025-01-30 21:03:25 -0000 (Thu, 30 Jan 2025) EndedAt: 2025-01-30 21:04:05 -0000 (Thu, 30 Jan 2025) EllapsedTime: 40.0 seconds RetCode: 0 Status: OK