Package: SEtools Version: 1.20.0 Command: /home/biocbuild/R/R/bin/R CMD check --install=check:SEtools.install-out.txt --library=/home/biocbuild/R/R/site-library --no-vignettes --timings SEtools_1.20.0.tar.gz StartedAt: 2025-01-31 10:23:43 -0000 (Fri, 31 Jan 2025) EndedAt: 2025-01-31 10:28:09 -0000 (Fri, 31 Jan 2025) EllapsedTime: 266.4 seconds RetCode: 0 Status: OK CheckDir: SEtools.Rcheck Warnings: 0