Package: SEtools Version: 1.20.0 Command: /home/biocbuild/R/R/bin/R CMD build --keep-empty-dirs --no-resave-data SEtools StartedAt: 2025-01-31 02:42:02 -0000 (Fri, 31 Jan 2025) EndedAt: 2025-01-31 02:43:01 -0000 (Fri, 31 Jan 2025) EllapsedTime: 59.1 seconds RetCode: 0 Status: OK PackageFile: SEtools_1.20.0.tar.gz PackageFileSize: 527 KiB