Package: SEtools Version: 1.22.0 Command: chmod a+r SEtools -R && E:\biocbuild\bbs-3.21-bioc\R\bin\R.exe CMD build --keep-empty-dirs --no-resave-data SEtools StartedAt: 2025-08-14 22:12:33 -0400 (Thu, 14 Aug 2025) EndedAt: 2025-08-14 22:13:41 -0400 (Thu, 14 Aug 2025) EllapsedTime: 68.0 seconds RetCode: 0 Status: OK PackageFile: SEtools_1.22.0.tar.gz PackageFileSize: 509.5 KiB