Package: SEraster Version: 1.2.0 Command: /home/biocbuild/bbs-3.22-bioc/R/bin/R CMD INSTALL SEraster StartedAt: 2025-11-16 15:20:55 -0500 (Sun, 16 Nov 2025) EndedAt: 2025-11-16 15:21:23 -0500 (Sun, 16 Nov 2025) EllapsedTime: 27.5 seconds RetCode: 0 Status: OK