Package: SEraster Version: 1.2.0 Command: /home/biocbuild/bbs-3.22-bioc/R/bin/R CMD build --keep-empty-dirs --no-resave-data --md5 SEraster StartedAt: 2025-11-16 20:13:12 -0500 (Sun, 16 Nov 2025) EndedAt: 2025-11-16 20:19:44 -0500 (Sun, 16 Nov 2025) EllapsedTime: 392.3 seconds RetCode: 0 Status: OK PackageFile: SEraster_1.2.0.tar.gz PackageFileSize: 2.721 MiB