Package: SELEX Version: 1.40.0 Command: /home/biocbuild/R/R/bin/R CMD INSTALL SELEX StartedAt: 2025-04-21 20:27:44 -0000 (Mon, 21 Apr 2025) EndedAt: 2025-04-21 20:27:59 -0000 (Mon, 21 Apr 2025) EllapsedTime: 15.1 seconds RetCode: 0 Status: OK