Package: SCnorm Version: 1.30.0 Maintainer: Rhonda Bacher MaintainerEmail: rbacher at ufl.edu git_url: https://git.bioconductor.org/packages/SCnorm git_branch: RELEASE_3_21 git_last_commit: 6833b95 git_last_commit_date: 2025-04-15 11:12:49 -0400 (Tue, 15 Apr 2025)