Package: SCOPE Version: 1.20.0 Command: /Library/Frameworks/R.framework/Resources/bin/R CMD check --install=check:SCOPE.install-out.txt --library=/Library/Frameworks/R.framework/Resources/library --no-vignettes --timings SCOPE_1.20.0.tar.gz StartedAt: 2025-05-02 09:34:38 -0400 (Fri, 02 May 2025) EndedAt: 2025-05-02 09:46:43 -0400 (Fri, 02 May 2025) EllapsedTime: 725.7 seconds RetCode: 0 Status: OK CheckDir: SCOPE.Rcheck Warnings: 0