Package: SCOPE Version: 1.20.0 Command: /Library/Frameworks/R.framework/Resources/bin/R CMD check --install=check:SCOPE.install-out.txt --library=/Library/Frameworks/R.framework/Resources/library --no-vignettes --timings SCOPE_1.20.0.tar.gz StartedAt: 2025-05-07 09:12:02 -0400 (Wed, 07 May 2025) EndedAt: 2025-05-07 09:18:45 -0400 (Wed, 07 May 2025) EllapsedTime: 403.0 seconds RetCode: 0 Status: OK CheckDir: SCOPE.Rcheck Warnings: 0