Package: SCFA Version: 1.16.0 Command: F:\biocbuild\bbs-3.20-bioc\R\bin\R.exe CMD check --no-multiarch --install=check:SCFA.install-out.txt --library=F:\biocbuild\bbs-3.20-bioc\R\library --no-vignettes --timings SCFA_1.16.0.tar.gz StartedAt: 2025-01-03 05:47:26 -0500 (Fri, 03 Jan 2025) EndedAt: 2025-01-03 05:52:47 -0500 (Fri, 03 Jan 2025) EllapsedTime: 321.3 seconds RetCode: 0 Status: OK CheckDir: SCFA.Rcheck Warnings: 0