Package: SCArray Version: 1.16.0 Command: /Library/Frameworks/R.framework/Resources/bin/R CMD INSTALL SCArray StartedAt: 2025-04-21 15:28:23 -0400 (Mon, 21 Apr 2025) EndedAt: 2025-04-21 15:28:39 -0400 (Mon, 21 Apr 2025) EllapsedTime: 15.5 seconds RetCode: 0 Status: OK