Package: SCArray Version: 1.16.0 Command: /Library/Frameworks/R.framework/Resources/bin/R CMD build --keep-empty-dirs --no-resave-data SCArray StartedAt: 2025-04-21 17:31:59 -0400 (Mon, 21 Apr 2025) EndedAt: 2025-04-21 17:32:33 -0400 (Mon, 21 Apr 2025) EllapsedTime: 34.4 seconds RetCode: 0 Status: OK PackageFile: SCArray_1.16.0.tar.gz PackageFileSize: 1.315 MiB