Package: SCArray.sat Version: 1.8.0 Command: /Library/Frameworks/R.framework/Resources/bin/R CMD INSTALL SCArray.sat StartedAt: 2025-04-21 15:45:30 -0400 (Mon, 21 Apr 2025) EndedAt: 2025-04-21 15:46:27 -0400 (Mon, 21 Apr 2025) EllapsedTime: 56.6 seconds RetCode: 0 Status: OK