Package: SCANVIS Version: 1.22.0 Command: /home/biocbuild/R/R/bin/R CMD INSTALL SCANVIS StartedAt: 2025-04-21 20:41:17 -0000 (Mon, 21 Apr 2025) EndedAt: 2025-04-21 20:42:01 -0000 (Mon, 21 Apr 2025) EllapsedTime: 43.9 seconds RetCode: 0 Status: OK