Package: SCANVIS Version: 1.20.0 Command: /home/biocbuild/R/R/bin/R CMD check --install=check:SCANVIS.install-out.txt --library=/home/biocbuild/R/R/site-library --no-vignettes --timings SCANVIS_1.20.0.tar.gz StartedAt: 2024-11-20 12:02:24 -0000 (Wed, 20 Nov 2024) EndedAt: 2024-11-20 12:06:56 -0000 (Wed, 20 Nov 2024) EllapsedTime: 272.5 seconds RetCode: 0 Status: OK CheckDir: SCANVIS.Rcheck Warnings: 0