Package: SCAN.UPC Version: 2.50.0 Command: /Library/Frameworks/R.framework/Resources/bin/R CMD check --install=check:SCAN.UPC.install-out.txt --library=/Library/Frameworks/R.framework/Resources/library --no-vignettes --timings SCAN.UPC_2.50.0.tar.gz StartedAt: 2025-05-14 07:52:57 -0400 (Wed, 14 May 2025) EndedAt: 2025-05-14 07:57:22 -0400 (Wed, 14 May 2025) EllapsedTime: 265.0 seconds RetCode: 0 Status: OK CheckDir: SCAN.UPC.Rcheck Warnings: 0