Package: SCAN.UPC Version: 2.50.0 Command: rm -rf SCAN.UPC.buildbin-libdir && mkdir SCAN.UPC.buildbin-libdir && /Users/biocbuild/BBS/utils/build-universal.sh SCAN.UPC_2.50.0.tar.gz /Library/Frameworks/R.framework/Resources/bin/R SCAN.UPC.buildbin-libdir StartedAt: 2025-05-14 16:45:19 -0400 (Wed, 14 May 2025) EndedAt: 2025-05-14 16:46:02 -0400 (Wed, 14 May 2025) EllapsedTime: 42.4 seconds RetCode: 0 Status: OK PackageFile: SCAN.UPC_2.50.0.tgz PackageFileSize: 553.8 KiB