Package: SC3 Version: 1.36.0 Command: /home/biocbuild/bbs-3.21-bioc/R/bin/R CMD INSTALL SC3 StartedAt: 2025-10-15 15:18:12 -0400 (Wed, 15 Oct 2025) EndedAt: 2025-10-15 15:18:53 -0400 (Wed, 15 Oct 2025) EllapsedTime: 41.5 seconds RetCode: 0 Status: OK