Package: SC3 Version: 1.36.0 Command: /home/biocbuild/bbs-3.21-bioc/R/bin/R CMD build --keep-empty-dirs --no-resave-data SC3 StartedAt: 2025-10-15 19:38:52 -0400 (Wed, 15 Oct 2025) EndedAt: 2025-10-15 19:45:33 -0400 (Wed, 15 Oct 2025) EllapsedTime: 401.4 seconds RetCode: 0 Status: OK PackageFile: SC3_1.36.0.tar.gz PackageFileSize: 3.348 MiB