Package: SBMLR Version: 2.4.0 Command: rm -rf SBMLR.buildbin-libdir && mkdir SBMLR.buildbin-libdir && /Users/biocbuild/BBS/utils/build-universal.sh SBMLR_2.4.0.tar.gz /Library/Frameworks/R.framework/Resources/bin/R SBMLR.buildbin-libdir StartedAt: 2025-10-08 22:50:36 -0400 (Wed, 08 Oct 2025) EndedAt: 2025-10-08 22:50:42 -0400 (Wed, 08 Oct 2025) EllapsedTime: 5.6 seconds RetCode: 0 Status: OK PackageFile: SBMLR_2.4.0.tgz PackageFileSize: 313.5 KiB