Package: SBGNview Version: 1.20.0 Command: /home/biocbuild/R/R/bin/R CMD check --install=check:SBGNview.install-out.txt --library=/home/biocbuild/R/R/site-library --no-vignettes --timings SBGNview_1.20.0.tar.gz StartedAt: 2025-02-04 10:43:18 -0000 (Tue, 04 Feb 2025) EndedAt: 2025-02-04 10:48:50 -0000 (Tue, 04 Feb 2025) EllapsedTime: 331.4 seconds RetCode: 0 Status: OK CheckDir: SBGNview.Rcheck Warnings: 0