Package: SBGNview Version: 1.22.0 Command: /Library/Frameworks/R.framework/Resources/bin/R CMD INSTALL SBGNview StartedAt: 2025-10-02 15:46:32 -0400 (Thu, 02 Oct 2025) EndedAt: 2025-10-02 15:47:52 -0400 (Thu, 02 Oct 2025) EllapsedTime: 80.0 seconds RetCode: 0 Status: OK