Package: SBGNview Version: 1.24.0 Command: rm -rf SBGNview.buildbin-libdir && mkdir SBGNview.buildbin-libdir && /Users/biocbuild/BBS/utils/build-universal.sh SBGNview_1.24.0.tar.gz /Library/Frameworks/R.framework/Resources/bin/R SBGNview.buildbin-libdir StartedAt: 2025-11-23 11:11:40 -0500 (Sun, 23 Nov 2025) EndedAt: 2025-11-23 11:12:49 -0500 (Sun, 23 Nov 2025) EllapsedTime: 68.8 seconds RetCode: 0 Status: OK PackageFile: SBGNview_1.24.0.tgz PackageFileSize: 2.089 MiB