Package: SANTA Version: 2.44.0 Command: rm -rf SANTA.buildbin-libdir && mkdir SANTA.buildbin-libdir && /Users/biocbuild/BBS/utils/build-universal.sh SANTA_2.44.0.tar.gz /Library/Frameworks/R.framework/Resources/bin/R SANTA.buildbin-libdir StartedAt: 2025-04-22 01:06:23 -0400 (Tue, 22 Apr 2025) EndedAt: 2025-04-22 01:06:42 -0400 (Tue, 22 Apr 2025) EllapsedTime: 19.5 seconds RetCode: 0 Status: OK PackageFile: SANTA_2.44.0.tgz PackageFileSize: 4.134 MiB