Package: S4Vectors Version: 0.46.0 Command: E:\biocbuild\bbs-3.21-bioc\R\bin\R.exe CMD INSTALL S4Vectors StartedAt: 2025-08-14 15:36:04 -0400 (Thu, 14 Aug 2025) EndedAt: 2025-08-14 15:41:08 -0400 (Thu, 14 Aug 2025) EllapsedTime: 303.6 seconds RetCode: 0 Status: OK