Package: S4Vectors Version: 0.46.0 Command: /Library/Frameworks/R.framework/Resources/bin/R CMD check --install=check:S4Vectors.install-out.txt --library=/Library/Frameworks/R.framework/Resources/library --no-vignettes --timings S4Vectors_0.46.0.tar.gz StartedAt: 2025-05-09 08:53:09 -0400 (Fri, 09 May 2025) EndedAt: 2025-05-09 08:56:30 -0400 (Fri, 09 May 2025) EllapsedTime: 201.0 seconds RetCode: 0 Status: WARNINGS CheckDir: S4Vectors.Rcheck Warnings: 2